BEGIN:VCALENDAR
VERSION:2.0
PRODID:-//ChamberMaster//Event Calendar 2.0//EN
METHOD:PUBLISH
X-PUBLISHED-TTL:P3D
REFRESH-INTERVAL:P3D
CALSCALE:GREGORIAN
BEGIN:VEVENT
DTSTART:20070608T114500Z
DTEND:20070608T130000Z
X-MICROSOFT-CDO-ALLDAYEVENT:FALSE
SUMMARY:Puttin' on Pekin Breakfast
DESCRIPTION:The Chamber's Pekin 1st Committee brings you this great networking and promotional opportunity! You'' get breakfast\, annoucements\, door prize drawings\, awards\, Meet the New Chamber Member\, 1-minute reminders and much more! This month's featured program: \nBruce Hoerr - Winpak - Director of Operations
X-ALT-DESC;FMTTYPE=text/html:The Chamber&rsquo\;s Pekin 1st Committee brings you this great networking and promotional opportunity! You&rsquo\;&rsquo\; get breakfast\, annoucements\, door prize drawings\, awards\, Meet the New Chamber Member\, 1-minute reminders and much more! This month&rsquo\;s featured program:&nbsp\;<br />Bruce Hoerr - Winpak - Director of Operations
LOCATION:Knights of Columbus Hall 715 N. 11th St. Pekin\, IL 61554
UID:e.112.55
SEQUENCE:3
DTSTAMP:20260423T200544Z
URL:http://pekinchamber.chambermaster.com/events/details/puttin-on-pekin-breakfast-06-08-2007-55
END:VEVENT

END:VCALENDAR
