BEGIN:VCALENDAR
VERSION:2.0
PRODID:-//ChamberMaster//Event Calendar 2.0//EN
METHOD:PUBLISH
X-PUBLISHED-TTL:P3D
REFRESH-INTERVAL:P3D
CALSCALE:GREGORIAN
BEGIN:VEVENT
DTSTART:20070810T114500Z
DTEND:20070810T130000Z
X-MICROSOFT-CDO-ALLDAYEVENT:FALSE
SUMMARY:Puttin' on Pekin Breakfast
DESCRIPTION:The Chamber's Pekin 1st Committee brings you this great networking and promotional opportunity! You'' get breakfast\, annoucements\, door prize drawings\, awards\, Meet the New Chamber Member\, 1-minute reminders and much more! This month's featured program: \nCity of Pekin officials will give a City Update
X-ALT-DESC;FMTTYPE=text/html:The Chamber&rsquo\;s Pekin 1st Committee brings you this great networking and promotional opportunity! You&rsquo\;&rsquo\; get breakfast\, annoucements\, door prize drawings\, awards\, Meet the New Chamber Member\, 1-minute reminders and much more! This month&rsquo\;s featured program:&nbsp\;<br />City of Pekin officials will give a City Update
LOCATION:Knights of Columbus Hall 715 N. 11th St. Pekin\, IL 61554
UID:e.112.56
SEQUENCE:3
DTSTAMP:20260424T174613Z
URL:http://pekinchamber.chambermaster.com/events/details/puttin-on-pekin-breakfast-08-10-2007-56
END:VEVENT

END:VCALENDAR
