BEGIN:VCALENDAR
VERSION:2.0
PRODID:-//ChamberMaster//Event Calendar 2.0//EN
METHOD:PUBLISH
X-PUBLISHED-TTL:P3D
REFRESH-INTERVAL:P3D
CALSCALE:GREGORIAN
BEGIN:VEVENT
DTSTART:20100717T150000Z
DTEND:20100717T230000Z
X-MICROSOFT-CDO-ALLDAYEVENT:FALSE
SUMMARY:Ridin for TAPS
DESCRIPTION:Fundraiser for TAPS No-Kill Animal Shelter. Ride starts at 10am at MacDuffs in Pekin.  Admission price includes entry to Rockin for TAPS event featuring Royce Elliott and the band Loose Shoes.
X-ALT-DESC;FMTTYPE=text/html:Fundraiser for TAPS No-Kill Animal Shelter. Ride starts at 10am at MacDuffs in Pekin.  Admission price includes entry to Rockin for TAPS event featuring Royce Elliott and the band Loose Shoes.
LOCATION:Sign in at 10 am at MacDuffs Bar on 2nd Street (Rt 29) in Pekin. Ride ends at the Pekin VFW 15665 VFW Road.
UID:e.112.4907
SEQUENCE:3
DTSTAMP:20260420T044635Z
URL:http://pekinchamber.chambermaster.com/events/details/ridin-for-taps-07-17-2010-4907
END:VEVENT

END:VCALENDAR
